BEGIN:VCALENDAR
VERSION:2.0
PRODID:-//Gilgal Pentecostal Church - ECPv6.15.17.1//NONSGML v1.0//EN
CALSCALE:GREGORIAN
METHOD:PUBLISH
X-ORIGINAL-URL:https://www.gpcnz.com
X-WR-CALDESC:Events for Gilgal Pentecostal Church
REFRESH-INTERVAL;VALUE=DURATION:PT1H
X-Robots-Tag:noindex
X-PUBLISHED-TTL:PT1H
BEGIN:VTIMEZONE
TZID:Pacific/Auckland
BEGIN:STANDARD
TZOFFSETFROM:+1300
TZOFFSETTO:+1200
TZNAME:NZST
DTSTART:20230401T140000
END:STANDARD
BEGIN:DAYLIGHT
TZOFFSETFROM:+1200
TZOFFSETTO:+1300
TZNAME:NZDT
DTSTART:20230923T140000
END:DAYLIGHT
BEGIN:STANDARD
TZOFFSETFROM:+1300
TZOFFSETTO:+1200
TZNAME:NZST
DTSTART:20240406T140000
END:STANDARD
BEGIN:DAYLIGHT
TZOFFSETFROM:+1200
TZOFFSETTO:+1300
TZNAME:NZDT
DTSTART:20240928T140000
END:DAYLIGHT
BEGIN:STANDARD
TZOFFSETFROM:+1300
TZOFFSETTO:+1200
TZNAME:NZST
DTSTART:20250405T140000
END:STANDARD
BEGIN:DAYLIGHT
TZOFFSETFROM:+1200
TZOFFSETTO:+1300
TZNAME:NZDT
DTSTART:20250927T140000
END:DAYLIGHT
END:VTIMEZONE
BEGIN:VEVENT
DTSTART;TZID=Pacific/Auckland:20240412T190000
DTEND;TZID=Pacific/Auckland:20240412T203000
DTSTAMP:20260424T104723
CREATED:20240331T130856Z
LAST-MODIFIED:20240607T011837Z
UID:1687-1712948400-1712953800@www.gpcnz.com
SUMMARY:Bible Study
DESCRIPTION:
URL:https://www.gpcnz.com/event/bible-study/
LOCATION:GPC Church Hall\, Level 1\, 330 High Street\, Lower Hutt\, Lower Hutt\, 5010\, New Zealand
ATTACH;FMTTYPE=image/jpeg:https://www.gpcnz.com/wp-content/uploads/2024/04/bible-study.jpg
END:VEVENT
BEGIN:VEVENT
DTSTART;TZID=Pacific/Auckland:20240705T190000
DTEND;TZID=Pacific/Auckland:20240705T210000
DTSTAMP:20260424T104723
CREATED:20240607T010739Z
LAST-MODIFIED:20240607T010739Z
UID:1715-1720206000-1720213200@www.gpcnz.com
SUMMARY:English Worship Service
DESCRIPTION:
URL:https://www.gpcnz.com/event/english-worship-service/
LOCATION:GPC Church Hall\, Level 1\, 330 High Street\, Lower Hutt\, Lower Hutt\, 5010\, New Zealand
ATTACH;FMTTYPE=image/jpeg:https://www.gpcnz.com/wp-content/uploads/2024/06/WorshipServices.jpg
END:VEVENT
BEGIN:VEVENT
DTSTART;TZID=Pacific/Auckland:20240407T091500
DTEND;TZID=Pacific/Auckland:20240407T094500
DTSTAMP:20260424T104723
CREATED:20240331T123936Z
LAST-MODIFIED:20240607T010118Z
UID:1675-1712481300-1712483100@www.gpcnz.com
SUMMARY:Sunday School
DESCRIPTION:
URL:https://www.gpcnz.com/event/sunday-school/
LOCATION:GPC Church Hall\, Level 1\, 330 High Street\, Lower Hutt\, Lower Hutt\, 5010\, New Zealand
ATTACH;FMTTYPE=image/png:https://www.gpcnz.com/wp-content/uploads/2024/04/Sunday-School.png
END:VEVENT
BEGIN:VEVENT
DTSTART;TZID=Pacific/Auckland:20240407T100000
DTEND;TZID=Pacific/Auckland:20240407T123000
DTSTAMP:20260424T104723
CREATED:20240331T124646Z
LAST-MODIFIED:20240607T010050Z
UID:1679-1712484000-1712493000@www.gpcnz.com
SUMMARY:Sunday Worship Service
DESCRIPTION:
URL:https://www.gpcnz.com/event/sunday-worship-service/
LOCATION:GPC Church Hall\, Level 1\, 330 High Street\, Lower Hutt\, Lower Hutt\, 5010\, New Zealand
ATTACH;FMTTYPE=image/jpeg:https://www.gpcnz.com/wp-content/uploads/2024/04/SundayWorshipService.jpg
END:VEVENT
BEGIN:VEVENT
DTSTART;TZID=Pacific/Auckland:20240410T203000
DTEND;TZID=Pacific/Auckland:20240410T213000
DTSTAMP:20260424T104723
CREATED:20240331T125423Z
LAST-MODIFIED:20240331T125423Z
UID:1683-1712781000-1712784600@www.gpcnz.com
SUMMARY:Mid week prayer
DESCRIPTION:
URL:https://www.gpcnz.com/event/mid-week-prayer/
LOCATION:GPC Church Hall\, Level 1\, 330 High Street\, Lower Hutt\, Lower Hutt\, 5010\, New Zealand
ATTACH;FMTTYPE=image/jpeg:https://www.gpcnz.com/wp-content/uploads/2024/04/Mid-week-prayer.jpg
END:VEVENT
BEGIN:VEVENT
DTSTART;TZID=Pacific/Auckland:20240412T190000
DTEND;TZID=Pacific/Auckland:20240412T203000
DTSTAMP:20260424T104723
CREATED:20240331T130856Z
LAST-MODIFIED:20240607T011837Z
UID:1687-1712948400-1712953800@www.gpcnz.com
SUMMARY:Bible Study
DESCRIPTION:
URL:https://www.gpcnz.com/event/bible-study/
LOCATION:GPC Church Hall\, Level 1\, 330 High Street\, Lower Hutt\, Lower Hutt\, 5010\, New Zealand
ATTACH;FMTTYPE=image/jpeg:https://www.gpcnz.com/wp-content/uploads/2024/04/bible-study.jpg
END:VEVENT
BEGIN:VEVENT
DTSTART;TZID=Pacific/Auckland:20240713T103000
DTEND;TZID=Pacific/Auckland:20240713T120000
DTSTAMP:20260424T104723
CREATED:20240607T005601Z
LAST-MODIFIED:20240607T012045Z
UID:1700-1720866600-1720872000@www.gpcnz.com
SUMMARY:Mens Ministry
DESCRIPTION:
URL:https://www.gpcnz.com/event/mens-ministry-2/
LOCATION:GPC Church Hall\, Level 1\, 330 High Street\, Lower Hutt\, Lower Hutt\, 5010\, New Zealand
ATTACH;FMTTYPE=image/jpeg:https://www.gpcnz.com/wp-content/uploads/2024/04/Mens-Ministry.jpg
END:VEVENT
BEGIN:VEVENT
DTSTART;TZID=Pacific/Auckland:20240713T190000
DTEND;TZID=Pacific/Auckland:20240713T210000
DTSTAMP:20260424T104723
CREATED:20240607T005645Z
LAST-MODIFIED:20240607T012132Z
UID:1702-1720897200-1720904400@www.gpcnz.com
SUMMARY:Womens Ministry
DESCRIPTION:
URL:https://www.gpcnz.com/event/womens-ministry-2/
LOCATION:GPC Church Hall\, Level 1\, 330 High Street\, Lower Hutt\, Lower Hutt\, 5010\, New Zealand
ATTACH;FMTTYPE=image/png:https://www.gpcnz.com/wp-content/uploads/2024/04/womens-ministry.png
END:VEVENT
BEGIN:VEVENT
DTSTART;TZID=Pacific/Auckland:20240407T091500
DTEND;TZID=Pacific/Auckland:20240407T094500
DTSTAMP:20260424T104723
CREATED:20240331T123936Z
LAST-MODIFIED:20240607T010118Z
UID:1675-1712481300-1712483100@www.gpcnz.com
SUMMARY:Sunday School
DESCRIPTION:
URL:https://www.gpcnz.com/event/sunday-school/
LOCATION:GPC Church Hall\, Level 1\, 330 High Street\, Lower Hutt\, Lower Hutt\, 5010\, New Zealand
ATTACH;FMTTYPE=image/png:https://www.gpcnz.com/wp-content/uploads/2024/04/Sunday-School.png
END:VEVENT
BEGIN:VEVENT
DTSTART;TZID=Pacific/Auckland:20240407T100000
DTEND;TZID=Pacific/Auckland:20240407T123000
DTSTAMP:20260424T104723
CREATED:20240331T124646Z
LAST-MODIFIED:20240607T010050Z
UID:1679-1712484000-1712493000@www.gpcnz.com
SUMMARY:Sunday Worship Service
DESCRIPTION:
URL:https://www.gpcnz.com/event/sunday-worship-service/
LOCATION:GPC Church Hall\, Level 1\, 330 High Street\, Lower Hutt\, Lower Hutt\, 5010\, New Zealand
ATTACH;FMTTYPE=image/jpeg:https://www.gpcnz.com/wp-content/uploads/2024/04/SundayWorshipService.jpg
END:VEVENT
BEGIN:VEVENT
DTSTART;TZID=Pacific/Auckland:20240410T203000
DTEND;TZID=Pacific/Auckland:20240410T213000
DTSTAMP:20260424T104723
CREATED:20240331T125423Z
LAST-MODIFIED:20240331T125423Z
UID:1683-1712781000-1712784600@www.gpcnz.com
SUMMARY:Mid week prayer
DESCRIPTION:
URL:https://www.gpcnz.com/event/mid-week-prayer/
LOCATION:GPC Church Hall\, Level 1\, 330 High Street\, Lower Hutt\, Lower Hutt\, 5010\, New Zealand
ATTACH;FMTTYPE=image/jpeg:https://www.gpcnz.com/wp-content/uploads/2024/04/Mid-week-prayer.jpg
END:VEVENT
BEGIN:VEVENT
DTSTART;TZID=Pacific/Auckland:20240412T190000
DTEND;TZID=Pacific/Auckland:20240412T203000
DTSTAMP:20260424T104723
CREATED:20240331T130856Z
LAST-MODIFIED:20240607T011837Z
UID:1687-1712948400-1712953800@www.gpcnz.com
SUMMARY:Bible Study
DESCRIPTION:
URL:https://www.gpcnz.com/event/bible-study/
LOCATION:GPC Church Hall\, Level 1\, 330 High Street\, Lower Hutt\, Lower Hutt\, 5010\, New Zealand
ATTACH;FMTTYPE=image/jpeg:https://www.gpcnz.com/wp-content/uploads/2024/04/bible-study.jpg
END:VEVENT
BEGIN:VEVENT
DTSTART;TZID=Pacific/Auckland:20240621T190000
DTEND;TZID=Pacific/Auckland:20240621T203000
DTSTAMP:20260424T104723
CREATED:20240607T005738Z
LAST-MODIFIED:20240607T011210Z
UID:1704-1718996400-1719001800@www.gpcnz.com
SUMMARY:Youth Ministry
DESCRIPTION:
URL:https://www.gpcnz.com/event/youth-ministry-2/
LOCATION:GPC Church Hall\, Level 1\, 330 High Street\, Lower Hutt\, Lower Hutt\, 5010\, New Zealand
ATTACH;FMTTYPE=image/jpeg:https://www.gpcnz.com/wp-content/uploads/2024/04/Youth-Ministry.jpg
END:VEVENT
BEGIN:VEVENT
DTSTART;TZID=Pacific/Auckland:20240407T091500
DTEND;TZID=Pacific/Auckland:20240407T094500
DTSTAMP:20260424T104723
CREATED:20240331T123936Z
LAST-MODIFIED:20240607T010118Z
UID:1675-1712481300-1712483100@www.gpcnz.com
SUMMARY:Sunday School
DESCRIPTION:
URL:https://www.gpcnz.com/event/sunday-school/
LOCATION:GPC Church Hall\, Level 1\, 330 High Street\, Lower Hutt\, Lower Hutt\, 5010\, New Zealand
ATTACH;FMTTYPE=image/png:https://www.gpcnz.com/wp-content/uploads/2024/04/Sunday-School.png
END:VEVENT
BEGIN:VEVENT
DTSTART;TZID=Pacific/Auckland:20240407T100000
DTEND;TZID=Pacific/Auckland:20240407T123000
DTSTAMP:20260424T104723
CREATED:20240331T124646Z
LAST-MODIFIED:20240607T010050Z
UID:1679-1712484000-1712493000@www.gpcnz.com
SUMMARY:Sunday Worship Service
DESCRIPTION:
URL:https://www.gpcnz.com/event/sunday-worship-service/
LOCATION:GPC Church Hall\, Level 1\, 330 High Street\, Lower Hutt\, Lower Hutt\, 5010\, New Zealand
ATTACH;FMTTYPE=image/jpeg:https://www.gpcnz.com/wp-content/uploads/2024/04/SundayWorshipService.jpg
END:VEVENT
BEGIN:VEVENT
DTSTART;TZID=Pacific/Auckland:20240410T203000
DTEND;TZID=Pacific/Auckland:20240410T213000
DTSTAMP:20260424T104723
CREATED:20240331T125423Z
LAST-MODIFIED:20240331T125423Z
UID:1683-1712781000-1712784600@www.gpcnz.com
SUMMARY:Mid week prayer
DESCRIPTION:
URL:https://www.gpcnz.com/event/mid-week-prayer/
LOCATION:GPC Church Hall\, Level 1\, 330 High Street\, Lower Hutt\, Lower Hutt\, 5010\, New Zealand
ATTACH;FMTTYPE=image/jpeg:https://www.gpcnz.com/wp-content/uploads/2024/04/Mid-week-prayer.jpg
END:VEVENT
BEGIN:VEVENT
DTSTART;TZID=Pacific/Auckland:20240412T190000
DTEND;TZID=Pacific/Auckland:20240412T203000
DTSTAMP:20260424T104723
CREATED:20240331T130856Z
LAST-MODIFIED:20240607T011837Z
UID:1687-1712948400-1712953800@www.gpcnz.com
SUMMARY:Bible Study
DESCRIPTION:
URL:https://www.gpcnz.com/event/bible-study/
LOCATION:GPC Church Hall\, Level 1\, 330 High Street\, Lower Hutt\, Lower Hutt\, 5010\, New Zealand
ATTACH;FMTTYPE=image/jpeg:https://www.gpcnz.com/wp-content/uploads/2024/04/bible-study.jpg
END:VEVENT
BEGIN:VEVENT
DTSTART;TZID=Pacific/Auckland:20240628T190000
DTEND;TZID=Pacific/Auckland:20240629T190000
DTSTAMP:20260424T104723
CREATED:20240607T010509Z
LAST-MODIFIED:20240607T010509Z
UID:1709-1719601200-1719687600@www.gpcnz.com
SUMMARY:Monthly Fasting Prayer
DESCRIPTION:
URL:https://www.gpcnz.com/event/monthly-fasting-prayer/
LOCATION:GPC Church Hall\, Level 1\, 330 High Street\, Lower Hutt\, Lower Hutt\, 5010\, New Zealand
ATTACH;FMTTYPE=image/jpeg:https://www.gpcnz.com/wp-content/uploads/2024/06/Fasting-and-Prayer_fasting_and_prayer_16x9.jpg
END:VEVENT
BEGIN:VEVENT
DTSTART;TZID=Pacific/Auckland:20240407T091500
DTEND;TZID=Pacific/Auckland:20240407T094500
DTSTAMP:20260424T104723
CREATED:20240331T123936Z
LAST-MODIFIED:20240607T010118Z
UID:1675-1712481300-1712483100@www.gpcnz.com
SUMMARY:Sunday School
DESCRIPTION:
URL:https://www.gpcnz.com/event/sunday-school/
LOCATION:GPC Church Hall\, Level 1\, 330 High Street\, Lower Hutt\, Lower Hutt\, 5010\, New Zealand
ATTACH;FMTTYPE=image/png:https://www.gpcnz.com/wp-content/uploads/2024/04/Sunday-School.png
END:VEVENT
BEGIN:VEVENT
DTSTART;TZID=Pacific/Auckland:20240407T100000
DTEND;TZID=Pacific/Auckland:20240407T123000
DTSTAMP:20260424T104723
CREATED:20240331T124646Z
LAST-MODIFIED:20240607T010050Z
UID:1679-1712484000-1712493000@www.gpcnz.com
SUMMARY:Sunday Worship Service
DESCRIPTION:
URL:https://www.gpcnz.com/event/sunday-worship-service/
LOCATION:GPC Church Hall\, Level 1\, 330 High Street\, Lower Hutt\, Lower Hutt\, 5010\, New Zealand
ATTACH;FMTTYPE=image/jpeg:https://www.gpcnz.com/wp-content/uploads/2024/04/SundayWorshipService.jpg
END:VEVENT
BEGIN:VEVENT
DTSTART;TZID=Pacific/Auckland:20240410T203000
DTEND;TZID=Pacific/Auckland:20240410T213000
DTSTAMP:20260424T104723
CREATED:20240331T125423Z
LAST-MODIFIED:20240331T125423Z
UID:1683-1712781000-1712784600@www.gpcnz.com
SUMMARY:Mid week prayer
DESCRIPTION:
URL:https://www.gpcnz.com/event/mid-week-prayer/
LOCATION:GPC Church Hall\, Level 1\, 330 High Street\, Lower Hutt\, Lower Hutt\, 5010\, New Zealand
ATTACH;FMTTYPE=image/jpeg:https://www.gpcnz.com/wp-content/uploads/2024/04/Mid-week-prayer.jpg
END:VEVENT
BEGIN:VEVENT
DTSTART;TZID=Pacific/Auckland:20240412T190000
DTEND;TZID=Pacific/Auckland:20240412T203000
DTSTAMP:20260424T104723
CREATED:20240331T130856Z
LAST-MODIFIED:20240607T011837Z
UID:1687-1712948400-1712953800@www.gpcnz.com
SUMMARY:Bible Study
DESCRIPTION:
URL:https://www.gpcnz.com/event/bible-study/
LOCATION:GPC Church Hall\, Level 1\, 330 High Street\, Lower Hutt\, Lower Hutt\, 5010\, New Zealand
ATTACH;FMTTYPE=image/jpeg:https://www.gpcnz.com/wp-content/uploads/2024/04/bible-study.jpg
END:VEVENT
BEGIN:VEVENT
DTSTART;TZID=Pacific/Auckland:20240407T091500
DTEND;TZID=Pacific/Auckland:20240407T094500
DTSTAMP:20260424T104723
CREATED:20240331T123936Z
LAST-MODIFIED:20240607T010118Z
UID:1675-1712481300-1712483100@www.gpcnz.com
SUMMARY:Sunday School
DESCRIPTION:
URL:https://www.gpcnz.com/event/sunday-school/
LOCATION:GPC Church Hall\, Level 1\, 330 High Street\, Lower Hutt\, Lower Hutt\, 5010\, New Zealand
ATTACH;FMTTYPE=image/png:https://www.gpcnz.com/wp-content/uploads/2024/04/Sunday-School.png
END:VEVENT
BEGIN:VEVENT
DTSTART;TZID=Pacific/Auckland:20240407T100000
DTEND;TZID=Pacific/Auckland:20240407T123000
DTSTAMP:20260424T104723
CREATED:20240331T124646Z
LAST-MODIFIED:20240607T010050Z
UID:1679-1712484000-1712493000@www.gpcnz.com
SUMMARY:Sunday Worship Service
DESCRIPTION:
URL:https://www.gpcnz.com/event/sunday-worship-service/
LOCATION:GPC Church Hall\, Level 1\, 330 High Street\, Lower Hutt\, Lower Hutt\, 5010\, New Zealand
ATTACH;FMTTYPE=image/jpeg:https://www.gpcnz.com/wp-content/uploads/2024/04/SundayWorshipService.jpg
END:VEVENT
BEGIN:VEVENT
DTSTART;TZID=Pacific/Auckland:20240410T203000
DTEND;TZID=Pacific/Auckland:20240410T213000
DTSTAMP:20260424T104723
CREATED:20240331T125423Z
LAST-MODIFIED:20240331T125423Z
UID:1683-1712781000-1712784600@www.gpcnz.com
SUMMARY:Mid week prayer
DESCRIPTION:
URL:https://www.gpcnz.com/event/mid-week-prayer/
LOCATION:GPC Church Hall\, Level 1\, 330 High Street\, Lower Hutt\, Lower Hutt\, 5010\, New Zealand
ATTACH;FMTTYPE=image/jpeg:https://www.gpcnz.com/wp-content/uploads/2024/04/Mid-week-prayer.jpg
END:VEVENT
BEGIN:VEVENT
DTSTART;TZID=Pacific/Auckland:20240412T190000
DTEND;TZID=Pacific/Auckland:20240412T203000
DTSTAMP:20260424T104723
CREATED:20240331T130856Z
LAST-MODIFIED:20240607T011837Z
UID:1687-1712948400-1712953800@www.gpcnz.com
SUMMARY:Bible Study
DESCRIPTION:
URL:https://www.gpcnz.com/event/bible-study/
LOCATION:GPC Church Hall\, Level 1\, 330 High Street\, Lower Hutt\, Lower Hutt\, 5010\, New Zealand
ATTACH;FMTTYPE=image/jpeg:https://www.gpcnz.com/wp-content/uploads/2024/04/bible-study.jpg
END:VEVENT
BEGIN:VEVENT
DTSTART;TZID=Pacific/Auckland:20240705T190000
DTEND;TZID=Pacific/Auckland:20240705T210000
DTSTAMP:20260424T104723
CREATED:20240607T010739Z
LAST-MODIFIED:20240607T010739Z
UID:1715-1720206000-1720213200@www.gpcnz.com
SUMMARY:English Worship Service
DESCRIPTION:
URL:https://www.gpcnz.com/event/english-worship-service/
LOCATION:GPC Church Hall\, Level 1\, 330 High Street\, Lower Hutt\, Lower Hutt\, 5010\, New Zealand
ATTACH;FMTTYPE=image/jpeg:https://www.gpcnz.com/wp-content/uploads/2024/06/WorshipServices.jpg
END:VEVENT
BEGIN:VEVENT
DTSTART;TZID=Pacific/Auckland:20240407T091500
DTEND;TZID=Pacific/Auckland:20240407T094500
DTSTAMP:20260424T104723
CREATED:20240331T123936Z
LAST-MODIFIED:20240607T010118Z
UID:1675-1712481300-1712483100@www.gpcnz.com
SUMMARY:Sunday School
DESCRIPTION:
URL:https://www.gpcnz.com/event/sunday-school/
LOCATION:GPC Church Hall\, Level 1\, 330 High Street\, Lower Hutt\, Lower Hutt\, 5010\, New Zealand
ATTACH;FMTTYPE=image/png:https://www.gpcnz.com/wp-content/uploads/2024/04/Sunday-School.png
END:VEVENT
BEGIN:VEVENT
DTSTART;TZID=Pacific/Auckland:20240407T100000
DTEND;TZID=Pacific/Auckland:20240407T123000
DTSTAMP:20260424T104723
CREATED:20240331T124646Z
LAST-MODIFIED:20240607T010050Z
UID:1679-1712484000-1712493000@www.gpcnz.com
SUMMARY:Sunday Worship Service
DESCRIPTION:
URL:https://www.gpcnz.com/event/sunday-worship-service/
LOCATION:GPC Church Hall\, Level 1\, 330 High Street\, Lower Hutt\, Lower Hutt\, 5010\, New Zealand
ATTACH;FMTTYPE=image/jpeg:https://www.gpcnz.com/wp-content/uploads/2024/04/SundayWorshipService.jpg
END:VEVENT
BEGIN:VEVENT
DTSTART;TZID=Pacific/Auckland:20240410T203000
DTEND;TZID=Pacific/Auckland:20240410T213000
DTSTAMP:20260424T104723
CREATED:20240331T125423Z
LAST-MODIFIED:20240331T125423Z
UID:1683-1712781000-1712784600@www.gpcnz.com
SUMMARY:Mid week prayer
DESCRIPTION:
URL:https://www.gpcnz.com/event/mid-week-prayer/
LOCATION:GPC Church Hall\, Level 1\, 330 High Street\, Lower Hutt\, Lower Hutt\, 5010\, New Zealand
ATTACH;FMTTYPE=image/jpeg:https://www.gpcnz.com/wp-content/uploads/2024/04/Mid-week-prayer.jpg
END:VEVENT
END:VCALENDAR